View In:
ArcGIS JavaScript
ArcGIS Online Map Viewer
ArcGIS Earth
Service Description: null
Name: CONUS_stocking_age_height_2018_masked_202105131501132
Description: null
Single Fused Map Cache: false
Extent:
XMin: -1.3890046807407366E7
YMin: 2815889.6078310935
XMax: -7451446.807407366
YMax: 6342239.6078310935
Spatial Reference: 102100
(3857)
Initial Extent:
XMin: -1.3890046807407366E7
YMin: 2815889.6078310935
XMax: -7451446.807407366
YMax: 6342239.6078310935
Spatial Reference: 102100
(3857)
Full Extent:
XMin: -1.3890046807407366E7
YMin: 2815889.6078310935
XMax: -7451446.807407366
YMax: 6342239.6078310935
Spatial Reference: 102100
(3857)
Pixel Size X: 30.0
Pixel Size Y: 30.0
Band Count: 3
Pixel Type: F64
RasterFunction Infos: {"rasterFunctionInfos": [
{
"name": "None",
"description": "Make a Raster or Raster Dataset into a Function Raster Dataset.",
"help": ""
},
{
"name": "Age",
"description": "Age",
"help": ""
},
{
"name": "Height",
"description": "Height",
"help": ""
},
{
"name": "Stocking Percentage",
"description": "Stocking Percentage - per pixel",
"help": ""
}
]}
Mensuration Capabilities:
Has Histograms: true
Has Colormap: false
Has Multi Dimensions : false
Rendering Rule:
Min Scale: 0
Max Scale: 0
Copyright Text: null
Service Data Type: esriImageServiceDataTypeGeneric
Min Values: 0, 0, 0
Max Values: 136.85740661621094, 358.28594970703125, 176.29287719726562
Mean Values: 17.840494381155214, 22.473485726729756, 15.113333614989054
Standard Deviation Values: 25.99573828675081, 37.60817079405929, 23.89693729240947
Object ID Field:
Fields:
None
Default Mosaic Method: Center
Allowed Mosaic Methods:
SortField:
SortValue: null
Mosaic Operator: First
Default Compression Quality: 75
Default Resampling Method: Bilinear
Max Record Count: null
Max Image Height: 214620
Max Image Width: 117545
Max Download Image Count: null
Max Mosaic Image Count: null
Allow Raster Function: true
Allow Copy: true
Allow Analysis: true
Allow Compute TiePoints: false
Supports Statistics: false
Supports Advanced Queries: false
Use StandardizedQueries: true
Raster Type Infos:
Name: Raster Dataset
Description: Supports all ArcGIS Raster Datasets
Help:
Has Raster Attribute Table: false
Edit Fields Info: null
Ownership Based AccessControl For Rasters: null
Child Resources:
Info
Histograms
Statistics
Key Properties
Legend
Raster Function Infos
Supported Operations:
Export Image
Identify
Compute Histograms
Compute Statistics Histograms
Get Samples
Compute Class Statistics
Query Boundary
Compute Pixel Location
Compute Angles
Validate
Project