{
 "currentVersion": 11.1,
 "serviceDescription": "null",
 "name": "CONUS_stocking_age_height_2018_masked_202105131501132",
 "description": "null",
 "extent": {
  "xmin": -1.3890046807407366E7,
  "ymin": 2815889.6078310935,
  "xmax": -7451446.807407366,
  "ymax": 6342239.6078310935,
  "spatialReference": {
   "wkid": 102100,
   "latestWkid": 3857
  }
 },
 "initialExtent": {
  "xmin": -1.3890046807407366E7,
  "ymin": 2815889.6078310935,
  "xmax": -7451446.807407366,
  "ymax": 6342239.6078310935,
  "spatialReference": {
   "wkid": 102100,
   "latestWkid": 3857
  }
 },
 "fullExtent": {
  "xmin": -1.3890046807407366E7,
  "ymin": 2815889.6078310935,
  "xmax": -7451446.807407366,
  "ymax": 6342239.6078310935,
  "spatialReference": {
   "wkid": 102100,
   "latestWkid": 3857
  }
 },
 "sortableFields": "",
 "bandCount": 3,
 "pixelType": "F64",
 "minValues": [
  0,
  0,
  0
 ],
 "maxValues": [
  136.85740661621094,
  358.28594970703125,
  176.29287719726562
 ],
 "meanValues": [
  17.840494381155214,
  22.473485726729756,
  15.113333614989054
 ],
 "stdvValues": [
  25.99573828675081,
  37.60817079405929,
  23.89693729240947
 ],
 "hasMultidimensions": false,
 "pixelSizeX": 30,
 "pixelSizeY": 30,
 "datasetFormat": "Cache/LERC2D",
 "uncompressedSize": 605460189600,
 "blockWidth": 256,
 "blockHeight": 256,
 "compressionType": "LERC2D",
 "bandNames": [
  "All_live_tree_stocking_percent",
  "Stand_age",
  "Lorey_stand_height"
 ],
 "allowCopy": true,
 "allowAnalysis": true,
 "itemAccess": false,
 "noDataValue": 1.79E308,
 "noDataValues": [
  1.79E308,
  1.79E308,
  1.79E308
 ],
 "minPixelSize": 0,
 "maxPixelSize": 0,
 "copyrightText": "null",
 "serviceDataType": "esriImageServiceDataTypeGeneric",
 "serviceSourceType": "esriImageServiceSourceTypeDataset",
 "objectIdField": "",
 "fields": [],
 "capabilities": "Image",
 "defaultMosaicMethod": "Center",
 "allowedMosaicMethods": "",
 "sortField": "",
 "sortValue": null,
 "sortAscending": true,
 "mosaicOperator": "First",
 "defaultCompressionQuality": 75,
 "defaultResamplingMethod": "Bilinear",
 "maxImageHeight": 214620,
 "maxImageWidth": 117545,
 "allowRasterFunction": true,
 "rasterFunctionInfos": [
  {
   "name": "None",
   "description": "Make a Raster or Raster Dataset into a Function Raster Dataset.",
   "help": ""
  },
  {
   "name": "Age",
   "description": "Age",
   "help": ""
  },
  {
   "name": "Height",
   "description": "Height",
   "help": ""
  },
  {
   "name": "Stocking Percentage",
   "description": "Stocking Percentage - per pixel",
   "help": ""
  }
 ],
 "rasterTypeInfos": [
  {
   "name": "Raster Dataset",
   "description": "Supports all ArcGIS Raster Datasets",
   "help": ""
  }
 ],
 "mensurationCapabilities": "",
 "hasHistograms": true,
 "hasColormap": false,
 "hasRasterAttributeTable": false,
 "minScale": 0,
 "maxScale": 0,
 "exportTilesAllowed": false,
 "supportsStatistics": false,
 "supportsAdvancedQueries": false,
 "editFieldsInfo": null,
 "ownershipBasedAccessControlForRasters": null,
 "allowComputeTiePoints": false,
 "useStandardizedQueries": true,
 "advancedQueryCapabilities": {
  "useStandardizedQueries": true,
  "supportsStatistics": false,
  "supportsOrderBy": false,
  "supportsDistinct": false,
  "supportsPagination": false
 },
 "spatialReference": {
  "wkid": 102100,
  "latestWkid": 3857
 }
}
