View In:
ArcGIS JavaScript
ArcGIS Online Map Viewer
ArcGIS Earth
Service Description: null
Name: FIA_BIGMAP_2018_Tree_Species_Aboveground_Biomass
Description: null
Single Fused Map Cache: false
Extent:
XMin: -2911620
YMin: 164760
XMax: 2933940
YMax: 3254760
Spatial Reference: 102039
(102039)
Initial Extent:
XMin: -2911620
YMin: 164760
XMax: 2933940
YMax: 3254760
Spatial Reference: 102039
(102039)
Full Extent:
XMin: -2911620
YMin: 164760
XMax: 2933940
YMax: 3254760
Spatial Reference: 102039
(102039)
Pixel Size X: 30.0
Pixel Size Y: 30.0
Band Count: 1
Pixel Type: F32
RasterFunction Infos: {"rasterFunctionInfos": [
{
"name": "SPCD_0000_TOTAL",
"description": "TOTAL",
"help": ""
},
{
"name": "None",
"description": "Make a Raster or Raster Dataset into a Function Raster Dataset.",
"help": ""
},
{
"name": "SPCD_0010_Abies_spp.",
"description": "fir spp.",
"help": ""
},
{
"name": "SPCD_0012_Abies_balsamea",
"description": "balsam fir",
"help": ""
},
{
"name": "SPCD_0015_Abies_concolor",
"description": "white fir",
"help": ""
},
{
"name": "SPCD_0016_Abies_fraseri",
"description": "Fraser fir",
"help": ""
},
{
"name": "SPCD_0017_Abies_grandis",
"description": "grand fir",
"help": ""
},
{
"name": "SPCD_0018_Abies_lasiocarpa",
"description": "corkbark fir",
"help": ""
},
{
"name": "SPCD_0019_Abies_lasiocarpa",
"description": "subalpine fir",
"help": ""
},
{
"name": "SPCD_0020_Abies_magnifica",
"description": "California red fir",
"help": ""
},
{
"name": "SPCD_0021_Abies_shastensis",
"description": "Shasta red fir",
"help": ""
},
{
"name": "SPCD_0022_Abies_procera",
"description": "noble fir",
"help": ""
},
{
"name": "SPCD_0041_Chamaecyparis_lawsoniana",
"description": "Port-Orford-cedar",
"help": ""
},
{
"name": "SPCD_0042_Chamaecyparis_nootkatensis",
"description": "Alaska yellow-cedar",
"help": ""
},
{
"name": "SPCD_0043_Chamaecyparis_thyoides",
"description": "Atlantic white-cedar",
"help": ""
},
{
"name": "SPCD_0051_Cupressus_arizonica",
"description": "Arizona cypress",
"help": ""
},
{
"name": "SPCD_0052_Cupressus_bakeri",
"description": "Baker or Modoc cypress",
"help": ""
},
{
"name": "SPCD_0055_Cupressus_sargentii",
"description": "Sargent's cypress",
"help": ""
},
{
"name": "SPCD_0056_Cupressus_macnabiana",
"description": "MacNab's cypress",
"help": ""
},
{
"name": "SPCD_0058_Juniperus_pinchotii",
"description": "Pinchot juniper",
"help": ""
},
{
"name": "SPCD_0059_Juniperus_coahuilensis",
"description": "redberry juniper",
"help": ""
},
{
"name": "SPCD_0061_Juniperus_ashei",
"description": "Ashe juniper",
"help": ""
},
{
"name": "SPCD_0062_Juniperus_californica",
"description": "California juniper",
"help": ""
},
{
"name": "SPCD_0063_Juniperus_deppeana",
"description": "alligator juniper",
"help": ""
},
{
"name": "SPCD_0064_Juniperus_occidentalis",
"description": "western juniper",
"help": ""
},
{
"name": "SPCD_0065_Juniperus_osteosperma",
"description": "Utah juniper",
"help": ""
},
{
"name": "SPCD_0066_Juniperus_scopulorum",
"description": "Rocky Mountain juniper",
"help": ""
},
{
"name": "SPCD_0067_Juniperus_virginiana",
"description": "southern redcedar",
"help": ""
},
{
"name": "SPCD_0068_Juniperus_virginiana",
"description": "eastern redcedar",
"help": ""
},
{
"name": "SPCD_0069_Juniperus_monosperma",
"description": "oneseed juniper",
"help": ""
},
{
"name": "SPCD_0070_Larix_spp.",
"description": "larch spp.",
"help": ""
},
{
"name": "SPCD_0071_Larix_laricina",
"description": "tamarack",
"help": ""
},
{
"name": "SPCD_0072_Larix_lyallii",
"description": "subalpine larch",
"help": ""
},
{
"name": "SPCD_0073_Larix_occidentalis",
"description": "western larch",
"help": ""
},
{
"name": "SPCD_0081_Calocedrus_decurrens",
"description": "incense-cedar",
"help": ""
},
{
"name": "SPCD_0091_Picea_abies",
"description": "Norway spruce",
"help": ""
},
{
"name": "SPCD_0092_Picea_breweriana",
"description": "Brewer spruce",
"help": ""
},
{
"name": "SPCD_0093_Picea_engelmannii",
"description": "Engelmann spruce",
"help": ""
},
{
"name": "SPCD_0094_Picea_glauca",
"description": "white spruce",
"help": ""
},
{
"name": "SPCD_0095_Picea_mariana",
"description": "black spruce",
"help": ""
},
{
"name": "SPCD_0096_Picea_pungens",
"description": "blue spruce",
"help": ""
},
{
"name": "SPCD_0097_Picea_rubens",
"description": "red spruce",
"help": ""
},
{
"name": "SPCD_0098_Picea_sitchensis",
"description": "Sitka spruce",
"help": ""
},
{
"name": "SPCD_0101_Pinus_albicaulis",
"description": "whitebark pine",
"help": ""
},
{
"name": "SPCD_0102_Pinus_aristata",
"description": "Rocky Mountain bristlecone pine",
"help": ""
},
{
"name": "SPCD_0103_Pinus_attenuata",
"description": "knobcone pine",
"help": ""
},
{
"name": "SPCD_0104_Pinus_balfouriana",
"description": "foxtail pine",
"help": ""
},
{
"name": "SPCD_0105_Pinus_banksiana",
"description": "jack pine",
"help": ""
},
{
"name": "SPCD_0106_Pinus_edulis",
"description": "common or two-needle pinyon",
"help": ""
},
{
"name": "SPCD_0107_Pinus_clausa",
"description": "sand pine",
"help": ""
},
{
"name": "SPCD_0108_Pinus_contorta",
"description": "lodgepole pine",
"help": ""
},
{
"name": "SPCD_0109_Pinus_coulteri",
"description": "Coulter pine",
"help": ""
},
{
"name": "SPCD_0110_Pinus_echinata",
"description": "shortleaf pine",
"help": ""
},
{
"name": "SPCD_0111_Pinus_elliottii",
"description": "slash pine",
"help": ""
},
{
"name": "SPCD_0113_Pinus_flexilis",
"description": "limber pine",
"help": ""
},
{
"name": "SPCD_0114_Pinus_strobiformis",
"description": "southwestern white pine ",
"help": ""
},
{
"name": "SPCD_0115_Pinus_glabra",
"description": "spruce pine",
"help": ""
},
{
"name": "SPCD_0116_Pinus_jeffreyi",
"description": "Jeffrey pine",
"help": ""
},
{
"name": "SPCD_0117_Pinus_lambertiana",
"description": "sugar pine",
"help": ""
},
{
"name": "SPCD_0118_Pinus_leiophylla",
"description": "Chihuahuan pine",
"help": ""
},
{
"name": "SPCD_0119_Pinus_monticola",
"description": "western white pine",
"help": ""
},
{
"name": "SPCD_0120_Pinus_muricata",
"description": "bishop pine",
"help": ""
},
{
"name": "SPCD_0121_Pinus_palustris",
"description": "longleaf pine",
"help": ""
},
{
"name": "SPCD_0122_Pinus_ponderosa",
"description": "ponderosa pine",
"help": ""
},
{
"name": "SPCD_0123_Pinus_pungens",
"description": "Table Mountain pine",
"help": ""
},
{
"name": "SPCD_0125_Pinus_resinosa",
"description": "red pine",
"help": ""
},
{
"name": "SPCD_0126_Pinus_rigida",
"description": "pitch pine",
"help": ""
},
{
"name": "SPCD_0127_Pinus_sabiniana",
"description": "gray or California foothill pine",
"help": ""
},
{
"name": "SPCD_0128_Pinus_serotina",
"description": "pond pine",
"help": ""
},
{
"name": "SPCD_0129_Pinus_strobus",
"description": "eastern white pine",
"help": ""
},
{
"name": "SPCD_0130_Pinus_sylvestris",
"description": "Scotch pine",
"help": ""
},
{
"name": "SPCD_0131_Pinus_taeda",
"description": "loblolly pine",
"help": ""
},
{
"name": "SPCD_0132_Pinus_virginiana",
"description": "Virginia pine",
"help": ""
},
{
"name": "SPCD_0133_Pinus_monophylla",
"description": "singleleaf pinyon",
"help": ""
},
{
"name": "SPCD_0134_Pinus_discolor",
"description": "border pinyon",
"help": ""
},
{
"name": "SPCD_0136_Pinus_nigra",
"description": "Austrian pine",
"help": ""
},
{
"name": "SPCD_0137_Pinus_washoensis",
"description": "Washoe pine",
"help": ""
},
{
"name": "SPCD_0140_Pinus_cembroides",
"description": "Mexican pinyon pine",
"help": ""
},
{
"name": "SPCD_0141_Pinus_remota",
"description": "papershell pinyon pine",
"help": ""
},
{
"name": "SPCD_0142_Pinus_longaeva",
"description": "Great Basin bristlecone pine",
"help": ""
},
{
"name": "SPCD_0143_Pinus_monophylla",
"description": "Arizona pinyon pine",
"help": ""
},
{
"name": "SPCD_0201_Pseudotsuga_macrocarpa",
"description": "bigcone Douglas-fir",
"help": ""
},
{
"name": "SPCD_0202_Pseudotsuga_menziesii",
"description": "Douglas-fir",
"help": ""
},
{
"name": "SPCD_0211_Sequoia_sempervirens",
"description": "redwood",
"help": ""
},
{
"name": "SPCD_0212_Sequoiadendron_giganteum",
"description": "giant sequoia",
"help": ""
},
{
"name": "SPCD_0221_Taxodium_distichum",
"description": "baldcypress",
"help": ""
},
{
"name": "SPCD_0222_Taxodium_ascendens",
"description": "pondcypress",
"help": ""
},
{
"name": "SPCD_0231_Taxus_brevifolia",
"description": "Pacific yew",
"help": ""
},
{
"name": "SPCD_0241_Thuja_occidentalis",
"description": "northern white-cedar",
"help": ""
},
{
"name": "SPCD_0242_Thuja_plicata",
"description": "western redcedar",
"help": ""
},
{
"name": "SPCD_0251_Torreya_californica",
"description": "California torreya (nutmeg)",
"help": ""
},
{
"name": "SPCD_0261_Tsuga_canadensis",
"description": "eastern hemlock",
"help": ""
},
{
"name": "SPCD_0262_Tsuga_caroliniana",
"description": "Carolina hemlock",
"help": ""
},
{
"name": "SPCD_0263_Tsuga_heterophylla",
"description": "western hemlock",
"help": ""
},
{
"name": "SPCD_0264_Tsuga_mertensiana",
"description": "mountain hemlock",
"help": ""
},
{
"name": "SPCD_0303_Acacia_farnesiana",
"description": "sweet acacia",
"help": ""
},
{
"name": "SPCD_0311_Acer_barbatum",
"description": "Florida maple",
"help": ""
},
{
"name": "SPCD_0312_Acer_macrophyllum",
"description": "bigleaf maple",
"help": ""
},
{
"name": "SPCD_0313_Acer_negundo",
"description": "boxelder",
"help": ""
},
{
"name": "SPCD_0314_Acer_nigrum",
"description": "black maple",
"help": ""
},
{
"name": "SPCD_0315_Acer_pensylvanicum",
"description": "striped maple",
"help": ""
},
{
"name": "SPCD_0316_Acer_rubrum",
"description": "red maple",
"help": ""
},
{
"name": "SPCD_0317_Acer_saccharinum",
"description": "silver maple",
"help": ""
},
{
"name": "SPCD_0318_Acer_saccharum",
"description": "sugar maple",
"help": ""
},
{
"name": "SPCD_0319_Acer_spicatum",
"description": "mountain maple",
"help": ""
},
{
"name": "SPCD_0320_Acer_platanoides",
"description": "Norway maple",
"help": ""
},
{
"name": "SPCD_0322_Acer_grandidentatum",
"description": "bigtooth maple",
"help": ""
},
{
"name": "SPCD_0323_Acer_leucoderme",
"description": "chalk maple",
"help": ""
},
{
"name": "SPCD_0331_Aesculus_glabra",
"description": "Ohio buckeye",
"help": ""
},
{
"name": "SPCD_0332_Aesculus_flava",
"description": "yellow buckeye",
"help": ""
},
{
"name": "SPCD_0333_Aesculus_californica",
"description": "California buckeye",
"help": ""
},
{
"name": "SPCD_0334_Aesculus_glabra",
"description": "Texas buckeye",
"help": ""
},
{
"name": "SPCD_0341_Ailanthus_altissima",
"description": "ailanthus",
"help": ""
},
{
"name": "SPCD_0345_Albizia_julibrissin",
"description": "mimosa, silktree",
"help": ""
},
{
"name": "SPCD_0351_Alnus_rubra",
"description": "red alder",
"help": ""
},
{
"name": "SPCD_0352_Alnus_rhombifolia",
"description": "white alder",
"help": ""
},
{
"name": "SPCD_0356_Amelanchier_spp.",
"description": "serviceberry spp.",
"help": ""
},
{
"name": "SPCD_0361_Arbutus_menziesii",
"description": "Pacific madrone",
"help": ""
},
{
"name": "SPCD_0363_Arbutus_xalapensis",
"description": "Texas madrone",
"help": ""
},
{
"name": "SPCD_0367_Asimina_triloba",
"description": "pawpaw",
"help": ""
},
{
"name": "SPCD_0371_Betula_alleghaniensis",
"description": "yellow birch",
"help": ""
},
{
"name": "SPCD_0372_Betula_lenta",
"description": "sweet birch",
"help": ""
},
{
"name": "SPCD_0373_Betula_nigra",
"description": "river birch",
"help": ""
},
{
"name": "SPCD_0374_Betula_occidentalis",
"description": "water birch",
"help": ""
},
{
"name": "SPCD_0375_Betula_papyrifera",
"description": "paper birch",
"help": ""
},
{
"name": "SPCD_0379_Betula_populifolia",
"description": "gray birch",
"help": ""
},
{
"name": "SPCD_0381_Sideroxylon_lanuginosum",
"description": "chittamwood, gum bumelia",
"help": ""
},
{
"name": "SPCD_0391_Carpinus_caroliniana",
"description": "American hornbeam, musclewood",
"help": ""
},
{
"name": "SPCD_0400_Carya_spp.",
"description": "hickory spp.",
"help": ""
},
{
"name": "SPCD_0401_Carya_aquatica",
"description": "water hickory",
"help": ""
},
{
"name": "SPCD_0402_Carya_cordiformis",
"description": "bitternut hickory",
"help": ""
},
{
"name": "SPCD_0403_Carya_glabra",
"description": "pignut hickory",
"help": ""
},
{
"name": "SPCD_0404_Carya_illinoinensis",
"description": "pecan",
"help": ""
},
{
"name": "SPCD_0405_Carya_laciniosa",
"description": "shellbark hickory",
"help": ""
},
{
"name": "SPCD_0407_Carya_ovata",
"description": "shagbark hickory",
"help": ""
},
{
"name": "SPCD_0408_Carya_texana",
"description": "black hickory",
"help": ""
},
{
"name": "SPCD_0409_Carya_alba",
"description": "mockernut hickory",
"help": ""
},
{
"name": "SPCD_0410_Carya_pallida",
"description": "sand hickory",
"help": ""
},
{
"name": "SPCD_0411_Carya_floridana",
"description": "scrub hickory",
"help": ""
},
{
"name": "SPCD_0412_Carya_ovalis",
"description": "red hickory",
"help": ""
},
{
"name": "SPCD_0413_Carya_carolinae-septentrionalis",
"description": "southern shagbark hickory",
"help": ""
},
{
"name": "SPCD_0421_Castanea_dentata",
"description": "American chestnut",
"help": ""
},
{
"name": "SPCD_0422_Castanea_pumila",
"description": "Allegheny chinkapin",
"help": ""
},
{
"name": "SPCD_0423_Castanea_pumila",
"description": "Ozark chinkapin",
"help": ""
},
{
"name": "SPCD_0431_Chrysolepis_chrysophylla",
"description": "giant chinkapin, golden chinkapin",
"help": ""
},
{
"name": "SPCD_0451_Catalpa_bignonioides",
"description": "southern catalpa",
"help": ""
},
{
"name": "SPCD_0452_Catalpa_speciosa",
"description": "northern catalpa",
"help": ""
},
{
"name": "SPCD_0461_Celtis_laevigata",
"description": "sugarberry",
"help": ""
},
{
"name": "SPCD_0462_Celtis_occidentalis",
"description": "hackberry",
"help": ""
},
{
"name": "SPCD_0463_Celtis_laevigata",
"description": "netleaf hackberry",
"help": ""
},
{
"name": "SPCD_0471_Cercis_canadensis",
"description": "eastern redbud",
"help": ""
},
{
"name": "SPCD_0475_Cercocarpus_ledifolius",
"description": "curlleaf mountain-mahogany",
"help": ""
},
{
"name": "SPCD_0481_Cladrastis_kentukea",
"description": "yellowwood",
"help": ""
},
{
"name": "SPCD_0491_Cornus_florida",
"description": "flowering dogwood",
"help": ""
},
{
"name": "SPCD_0492_Cornus_nuttallii",
"description": "Pacific dogwood",
"help": ""
},
{
"name": "SPCD_0500_Crataegus_spp.",
"description": "hawthorn spp.",
"help": ""
},
{
"name": "SPCD_0501_Crataegus_crus-galli",
"description": "cockspur hawthorn",
"help": ""
},
{
"name": "SPCD_0502_Crataegus_mollis",
"description": "downy hawthorn",
"help": ""
},
{
"name": "SPCD_0513_Eucalyptus_grandis",
"description": "grand eucalyptus",
"help": ""
},
{
"name": "SPCD_0521_Diospyros_virginiana",
"description": "common persimmon",
"help": ""
},
{
"name": "SPCD_0522_Diospyros_texana",
"description": "Texas persimmon",
"help": ""
},
{
"name": "SPCD_0523_Ehretia_anacua",
"description": "Anacua knockaway",
"help": ""
},
{
"name": "SPCD_0531_Fagus_grandifolia",
"description": "American beech",
"help": ""
},
{
"name": "SPCD_0541_Fraxinus_americana",
"description": "white ash",
"help": ""
},
{
"name": "SPCD_0542_Fraxinus_latifolia",
"description": "Oregon ash",
"help": ""
},
{
"name": "SPCD_0543_Fraxinus_nigra",
"description": "black ash",
"help": ""
},
{
"name": "SPCD_0544_Fraxinus_pennsylvanica",
"description": "green ash",
"help": ""
},
{
"name": "SPCD_0545_Fraxinus_profunda",
"description": "pumpkin ash",
"help": ""
},
{
"name": "SPCD_0546_Fraxinus_quadrangulata",
"description": "blue ash",
"help": ""
},
{
"name": "SPCD_0547_Fraxinus_velutina",
"description": "velvet ash",
"help": ""
},
{
"name": "SPCD_0548_Fraxinus_caroliniana",
"description": "Carolina ash",
"help": ""
},
{
"name": "SPCD_0549_Fraxinus_texensis",
"description": "Texas ash",
"help": ""
},
{
"name": "SPCD_0551_Gleditsia_aquatica",
"description": "waterlocust",
"help": ""
},
{
"name": "SPCD_0552_Gleditsia_triacanthos",
"description": "honeylocust",
"help": ""
},
{
"name": "SPCD_0555_Gordonia_lasianthus",
"description": "loblolly-bay",
"help": ""
},
{
"name": "SPCD_0571_Gymnocladus_dioicus",
"description": "Kentucky coffeetree",
"help": ""
},
{
"name": "SPCD_0581_Halesia_carolina",
"description": "Carolina silverbell",
"help": ""
},
{
"name": "SPCD_0582_Halesia_diptera",
"description": "two-wing silverbell",
"help": ""
},
{
"name": "SPCD_0591_Ilex_opaca",
"description": "American holly",
"help": ""
},
{
"name": "SPCD_0601_Juglans_cinerea",
"description": "butternut",
"help": ""
},
{
"name": "SPCD_0602_Juglans_nigra",
"description": "black walnut",
"help": ""
},
{
"name": "SPCD_0604_Juglans_californica",
"description": "southern California black walnut",
"help": ""
},
{
"name": "SPCD_0605_Juglans_microcarpa",
"description": "Texas walnut",
"help": ""
},
{
"name": "SPCD_0606_Juglans_major",
"description": "Arizona walnut",
"help": ""
},
{
"name": "SPCD_0611_Liquidambar_styraciflua",
"description": "sweetgum",
"help": ""
},
{
"name": "SPCD_0621_Liriodendron_tulipifera",
"description": "yellow-poplar",
"help": ""
},
{
"name": "SPCD_0631_Lithocarpus_densiflorus",
"description": "tanoak",
"help": ""
},
{
"name": "SPCD_0641_Maclura_pomifera",
"description": "Osage-orange",
"help": ""
},
{
"name": "SPCD_0651_Magnolia_acuminata",
"description": "cucumbertree",
"help": ""
},
{
"name": "SPCD_0652_Magnolia_grandiflora",
"description": "southern magnolia",
"help": ""
},
{
"name": "SPCD_0653_Magnolia_virginiana",
"description": "sweetbay",
"help": ""
},
{
"name": "SPCD_0654_Magnolia_macrophylla",
"description": "bigleaf magnolia",
"help": ""
},
{
"name": "SPCD_0655_Magnolia_fraseri",
"description": "mountain or Fraser magnolia",
"help": ""
},
{
"name": "SPCD_0658_Magnolia_tripetala",
"description": "umbrella magnolia",
"help": ""
},
{
"name": "SPCD_0660_Malus_spp.",
"description": "apple spp.",
"help": ""
},
{
"name": "SPCD_0661_Malus_fusca",
"description": "Oregon crab apple",
"help": ""
},
{
"name": "SPCD_0662_Malus_angustifolia",
"description": "southern crab apple",
"help": ""
},
{
"name": "SPCD_0663_Malus_coronaria",
"description": "sweet crab apple",
"help": ""
},
{
"name": "SPCD_0681_Morus_alba",
"description": "white mulberry",
"help": ""
},
{
"name": "SPCD_0682_Morus_rubra",
"description": "red mulberry",
"help": ""
},
{
"name": "SPCD_0683_Morus_microphylla",
"description": "Texas mulberry",
"help": ""
},
{
"name": "SPCD_0691_Nyssa_aquatica",
"description": "water tupelo",
"help": ""
},
{
"name": "SPCD_0692_Nyssa_ogeche",
"description": "Ogeechee tupelo",
"help": ""
},
{
"name": "SPCD_0693_Nyssa_sylvatica",
"description": "blackgum",
"help": ""
},
{
"name": "SPCD_0694_Nyssa_biflora",
"description": "swamp tupelo",
"help": ""
},
{
"name": "SPCD_0701_Ostrya_virginiana",
"description": "eastern hophornbeam",
"help": ""
},
{
"name": "SPCD_0711_Oxydendrum_arboreum",
"description": "sourwood",
"help": ""
},
{
"name": "SPCD_0712_Paulownia_tomentosa",
"description": "paulownia, empress-tree",
"help": ""
},
{
"name": "SPCD_0721_Persea_borbonia",
"description": "redbay",
"help": ""
},
{
"name": "SPCD_0722_Planera_aquatica",
"description": "water-elm, planertree",
"help": ""
},
{
"name": "SPCD_0730_Platanus_racemosa",
"description": "California sycamore",
"help": ""
},
{
"name": "SPCD_0731_Platanus_occidentalis",
"description": "American sycamore",
"help": ""
},
{
"name": "SPCD_0740_Populus_spp.",
"description": "cottonwood and poplar spp.",
"help": ""
},
{
"name": "SPCD_0741_Populus_balsamifera",
"description": "balsam poplar",
"help": ""
},
{
"name": "SPCD_0742_Populus_deltoides",
"description": "eastern cottonwood",
"help": ""
},
{
"name": "SPCD_0743_Populus_grandidentata",
"description": "bigtooth aspen",
"help": ""
},
{
"name": "SPCD_0744_Populus_heterophylla",
"description": "swamp cottonwood",
"help": ""
},
{
"name": "SPCD_0745_Populus_deltoides",
"description": "plains cottonwood",
"help": ""
},
{
"name": "SPCD_0746_Populus_tremuloides",
"description": "quaking aspen",
"help": ""
},
{
"name": "SPCD_0747_Populus_balsamifera",
"description": "black cottonwood",
"help": ""
},
{
"name": "SPCD_0748_Populus_fremontii",
"description": "Fremont cottonwood",
"help": ""
},
{
"name": "SPCD_0749_Populus_angustifolia",
"description": "narrowleaf cottonwood",
"help": ""
},
{
"name": "SPCD_0756_Prosopis_glandulosa",
"description": "honey mesquite ",
"help": ""
},
{
"name": "SPCD_0757_Prosopis_velutina",
"description": "velvet mesquite",
"help": ""
},
{
"name": "SPCD_0761_Prunus_pensylvanica",
"description": "pin cherry",
"help": ""
},
{
"name": "SPCD_0762_Prunus_serotina",
"description": "black cherry",
"help": ""
},
{
"name": "SPCD_0763_Prunus_virginiana",
"description": "chokecherry",
"help": ""
},
{
"name": "SPCD_0766_Prunus_americana",
"description": "American plum",
"help": ""
},
{
"name": "SPCD_0768_Prunus_emarginata",
"description": "bitter cherry",
"help": ""
},
{
"name": "SPCD_0771_Prunus_avium",
"description": "sweet cherry",
"help": ""
},
{
"name": "SPCD_0772_Prunus_cerasus",
"description": "sour cherry",
"help": ""
},
{
"name": "SPCD_0801_Quercus_agrifolia",
"description": "California live oak",
"help": ""
},
{
"name": "SPCD_0802_Quercus_alba",
"description": "white oak",
"help": ""
},
{
"name": "SPCD_0803_Quercus_arizonica",
"description": "Arizona white oak",
"help": ""
},
{
"name": "SPCD_0804_Quercus_bicolor",
"description": "swamp white oak",
"help": ""
},
{
"name": "SPCD_0805_Quercus_chrysolepis",
"description": "canyon live oak",
"help": ""
},
{
"name": "SPCD_0806_Quercus_coccinea",
"description": "scarlet oak",
"help": ""
},
{
"name": "SPCD_0807_Quercus_douglasii",
"description": "blue oak",
"help": ""
},
{
"name": "SPCD_0808_Quercus_sinuata",
"description": "Durand oak",
"help": ""
},
{
"name": "SPCD_0809_Quercus_ellipsoidalis",
"description": "northern pin oak",
"help": ""
},
{
"name": "SPCD_0810_Quercus_emoryi",
"description": "Emory oak",
"help": ""
},
{
"name": "SPCD_0811_Quercus_engelmannii",
"description": "Engelmann oak",
"help": ""
},
{
"name": "SPCD_0812_Quercus_falcata",
"description": "southern red oak",
"help": ""
},
{
"name": "SPCD_0813_Quercus_pagoda",
"description": "cherrybark oak",
"help": ""
},
{
"name": "SPCD_0814_Quercus_gambelii",
"description": "Gambel oak",
"help": ""
},
{
"name": "SPCD_0815_Quercus_garryana",
"description": "Oregon white oak",
"help": ""
},
{
"name": "SPCD_0816_Quercus_ilicifolia",
"description": "scrub oak",
"help": ""
},
{
"name": "SPCD_0817_Quercus_imbricaria",
"description": "shingle oak",
"help": ""
},
{
"name": "SPCD_0818_Quercus_kelloggii",
"description": "California black oak",
"help": ""
},
{
"name": "SPCD_0819_Quercus_laevis",
"description": "turkey oak",
"help": ""
},
{
"name": "SPCD_0820_Quercus_laurifolia",
"description": "laurel oak",
"help": ""
},
{
"name": "SPCD_0821_Quercus_lobata",
"description": "California white oak",
"help": ""
},
{
"name": "SPCD_0822_Quercus_lyrata",
"description": "overcup oak",
"help": ""
},
{
"name": "SPCD_0823_Quercus_macrocarpa",
"description": "bur oak",
"help": ""
},
{
"name": "SPCD_0824_Quercus_marilandica",
"description": "blackjack oak",
"help": ""
},
{
"name": "SPCD_0825_Quercus_michauxii",
"description": "swamp chestnut oak",
"help": ""
},
{
"name": "SPCD_0826_Quercus_muehlenbergii",
"description": "chinkapin oak",
"help": ""
},
{
"name": "SPCD_0827_Quercus_nigra",
"description": "water oak",
"help": ""
},
{
"name": "SPCD_0828_Quercus_texana",
"description": "Nuttall oak",
"help": ""
},
{
"name": "SPCD_0829_Quercus_oblongifolia",
"description": "Mexican blue oak",
"help": ""
},
{
"name": "SPCD_0830_Quercus_palustris",
"description": "pin oak",
"help": ""
},
{
"name": "SPCD_0831_Quercus_phellos",
"description": "willow oak",
"help": ""
},
{
"name": "SPCD_0832_Quercus_prinus",
"description": "chestnut oak",
"help": ""
},
{
"name": "SPCD_0833_Quercus_rubra",
"description": "northern red oak",
"help": ""
},
{
"name": "SPCD_0834_Quercus_shumardii",
"description": "Shumard oak",
"help": ""
},
{
"name": "SPCD_0835_Quercus_stellata",
"description": "post oak",
"help": ""
},
{
"name": "SPCD_0836_Quercus_similis",
"description": "Delta post oak",
"help": ""
},
{
