View In:
ArcGIS JavaScript
ArcGIS Online Map Viewer
ArcGIS Earth
Service Description: null
Name: Carbon_Predominant_Forest_Biomass_202504282001285
Description: null
Single Fused Map Cache: false
Extent:
XMin: -1.3890063206811653E7
YMin: 2815900.1666866885
XMax: -7458003.206811653
YMax: 6342250.166686689
Spatial Reference: 102100
(3857)
Initial Extent:
XMin: -1.3890063206811653E7
YMin: 2815900.1666866885
XMax: -7458003.206811653
YMax: 6342250.166686689
Spatial Reference: 102100
(3857)
Full Extent:
XMin: -1.3890063206811653E7
YMin: 2815900.1666866885
XMax: -7458003.206811653
YMax: 6342250.166686689
Spatial Reference: 102100
(3857)
Pixel Size X: 30.0
Pixel Size Y: 30.0
Band Count: 1
Pixel Type: U8
RasterFunction Infos: {"rasterFunctionInfos": [{
"name": "None",
"description": "Make a Raster or Raster Dataset into a Function Raster Dataset.",
"help": ""
}]}
Mensuration Capabilities:
Has Histograms: true
Has Colormap: false
Has Multi Dimensions : false
Rendering Rule:
Min Scale: 0
Max Scale: 0
Copyright Text: null
Service Data Type: esriImageServiceDataTypeGeneric
Min Values: 0
Max Values: 9
Mean Values: 1.8035254545779327
Standard Deviation Values: 2.947589199566808
Object ID Field:
Fields:
None
Default Mosaic Method: Center
Allowed Mosaic Methods:
SortField:
SortValue: null
Mosaic Operator: First
Default Compression Quality: 75
Default Resampling Method: Bilinear
Max Record Count: null
Max Image Height: 117545
Max Image Width: 214402
Max Download Image Count: null
Max Mosaic Image Count: null
Allow Raster Function: true
Allow Copy: true
Allow Analysis: true
Allow Compute TiePoints: false
Supports Statistics: false
Supports Advanced Queries: false
Use StandardizedQueries: true
Raster Type Infos:
Name: Raster Dataset
Description: Supports all ArcGIS Raster Datasets
Help:
Has Raster Attribute Table: true
Edit Fields Info: null
Ownership Based AccessControl For Rasters: null
Child Resources:
Info
Raster Attribute Table
Histograms
Statistics
Key Properties
Legend
Raster Function Infos
Supported Operations:
Export Image
Identify
Compute Histograms
Compute Statistics Histograms
Get Samples
Compute Class Statistics
Query Boundary
Compute Pixel Location
Compute Angles
Validate
Project