View In:
ArcGIS JavaScript
ArcGIS Online Map Viewer
ArcGIS Earth
Service Description: null
Name: CONUS_forest_type_group_2018_masked_202105122120120
Description: null
Single Fused Map Cache: false
Extent:
XMin: -1.4469331213417044E7
YMin: 2480613.6864454327
XMax: -7114771.213417044
YMax: 6868893.686445433
Spatial Reference: 102100
(3857)
Initial Extent:
XMin: -1.4469331213417044E7
YMin: 2480613.6864454327
XMax: -7114771.213417044
YMax: 6868893.686445433
Spatial Reference: 102100
(3857)
Full Extent:
XMin: -1.4469331213417044E7
YMin: 2480613.6864454327
XMax: -7114771.213417044
YMax: 6868893.686445433
Spatial Reference: 102100
(3857)
Pixel Size X: 30.0
Pixel Size Y: 30.0
Band Count: 1
Pixel Type: U16
RasterFunction Infos: {"rasterFunctionInfos": [
{
"name": "CONUS Forest Type Group",
"description": "RFT color symbolization for FIA CONUS Forest Type Group layer",
"help": ""
},
{
"name": "None",
"description": "Make a Raster or Raster Dataset into a Function Raster Dataset.",
"help": ""
}
]}
Mensuration Capabilities:
Has Histograms: true
Has Colormap: false
Has Multi Dimensions : false
Rendering Rule:
Min Scale: 0
Max Scale: 0
Copyright Text: null
Service Data Type: esriImageServiceDataTypeThematic
Min Values: 0
Max Values: 999
Mean Values: 129.77845178828386
Standard Deviation Values: 238.85682619451902
Object ID Field:
Fields:
None
Default Mosaic Method: Center
Allowed Mosaic Methods:
SortField:
SortValue: null
Mosaic Operator: First
Default Compression Quality: 75
Default Resampling Method: Bilinear
Max Record Count: null
Max Image Height: 245152
Max Image Width: 146276
Max Download Image Count: null
Max Mosaic Image Count: null
Allow Raster Function: true
Allow Copy: true
Allow Analysis: true
Allow Compute TiePoints: false
Supports Statistics: false
Supports Advanced Queries: false
Use StandardizedQueries: true
Raster Type Infos:
Name: Raster Dataset
Description: Supports all ArcGIS Raster Datasets
Help:
Has Raster Attribute Table: true
Edit Fields Info: null
Ownership Based AccessControl For Rasters: null
Child Resources:
Info
Raster Attribute Table
Histograms
Statistics
Key Properties
Legend
Raster Function Infos
Supported Operations:
Export Image
Identify
Compute Histograms
Compute Statistics Histograms
Get Samples
Compute Class Statistics
Query Boundary
Compute Pixel Location
Compute Angles
Validate
Project