View In:
ArcGIS JavaScript
ArcGIS Online Map Viewer
ArcGIS Earth
Service Description: This layer was developed using data from over 213,000 national forest inventory plots measured during the period 2014-2018 from the USDA Forest Service Forest Inventory and Analysis (FIA) program, in conjunction with other auxiliary information. Roughly 4,900 Landsat 8 Operational Land Imager scenes, collected during the same time period, were processed to extract information about vegetation phenology. This information, along with climatic and topographic raster data, were used in an ecological ordination model of tree species. The model produced a feature space of ecological gradients that was then used to impute FIA plots to pixels. The plots imputed to each pixel were then used to assign values of estimated carbon (in short tons per pixel) across 9 carbon pools.
Name: CONUS_Predominant_Forest_Carbon_pools
Description: This layer was developed using data from over 213,000 national forest inventory plots measured during the period 2014-2018 from the USDA Forest Service Forest Inventory and Analysis (FIA) program, in conjunction with other auxiliary information. Roughly 4,900 Landsat 8 Operational Land Imager scenes, collected during the same time period, were processed to extract information about vegetation phenology. This information, along with climatic and topographic raster data, were used in an ecological ordination model of tree species. The model produced a feature space of ecological gradients that was then used to impute FIA plots to pixels. The plots imputed to each pixel were then used to assign values of estimated carbon (in short tons per pixel) across 9 carbon pools.
Single Fused Map Cache: false
Extent:
XMin: -1.3890063206811653E7
YMin: 2815900.1666866885
XMax: -7458003.206811653
YMax: 6342250.166686689
Spatial Reference: 102100
(3857)
Initial Extent:
XMin: -1.3890063206811653E7
YMin: 2815900.1666866885
XMax: -7458003.206811653
YMax: 6342250.166686689
Spatial Reference: 102100
(3857)
Full Extent:
XMin: -1.3890063206811653E7
YMin: 2815900.1666866885
XMax: -7458003.206811653
YMax: 6342250.166686689
Spatial Reference: 102100
(3857)
Pixel Size X: 30.0
Pixel Size Y: 30.0
Band Count: 1
Pixel Type: U8
RasterFunction Infos: {"rasterFunctionInfos": [
{
"name": "Carbon Predominant Biomass Attribute Table",
"description": "Carbon Predominant Biomass Attribute Table",
"help": ""
},
{
"name": "None",
"description": "Make a Raster or Raster Dataset into a Function Raster Dataset.",
"help": ""
}
]}
Mensuration Capabilities:
Has Histograms: true
Has Colormap: false
Has Multi Dimensions : false
Rendering Rule:
Min Scale: 0
Max Scale: 0
Copyright Text: null
Service Data Type: esriImageServiceDataTypeGeneric
Min Values: 0
Max Values: 9
Mean Values: 1.8035254545779327
Standard Deviation Values: 2.9475891995668104
Object ID Field:
Fields:
None
Default Mosaic Method: Center
Allowed Mosaic Methods:
SortField:
SortValue: null
Mosaic Operator: First
Default Compression Quality: 75
Default Resampling Method: Bilinear
Max Record Count: null
Max Image Height: -1
Max Image Width: -1
Max Download Image Count: null
Max Mosaic Image Count: null
Allow Raster Function: true
Allow Copy: true
Allow Analysis: true
Allow Compute TiePoints: false
Supports Statistics: false
Supports Advanced Queries: false
Use StandardizedQueries: true
Raster Type Infos:
Name: Raster Dataset
Description: Supports all ArcGIS Raster Datasets
Help:
Has Raster Attribute Table: false
Edit Fields Info: null
Ownership Based AccessControl For Rasters: null
Child Resources:
Info
Histograms
Statistics
Key Properties
Legend
Raster Function Infos
Supported Operations:
Export Image
Identify
Compute Histograms
Compute Statistics Histograms
Get Samples
Compute Class Statistics
Query Boundary
Compute Pixel Location
Compute Angles
Validate
Project