{
 "currentVersion": 11.1,
 "serviceDescription": "BIGMAP Species Aboveground Biomass",
 "name": "FIA_BIGMAP_2018_Species_Aboveground_Biomass",
 "description": "BIGMAP Species Aboveground Biomass",
 "extent": {
  "xmin": -2911620,
  "ymin": 164760,
  "xmax": 2933940,
  "ymax": 3254760,
  "spatialReference": {
   "wkid": 102039,
   "latestWkid": 102039
  }
 },
 "initialExtent": {
  "xmin": -2911620,
  "ymin": 164760,
  "xmax": 2933940,
  "ymax": 3254760,
  "spatialReference": {
   "wkid": 102039,
   "latestWkid": 102039
  }
 },
 "fullExtent": {
  "xmin": -2911620,
  "ymin": 164760,
  "xmax": 2933940,
  "ymax": 3254760,
  "spatialReference": {
   "wkid": 102039,
   "latestWkid": 102039
  }
 },
 "sortableFields": "",
 "bandCount": 1,
 "pixelType": "F32",
 "minValues": [],
 "maxValues": [],
 "meanValues": [],
 "stdvValues": [],
 "hasMultidimensions": false,
 "pixelSizeX": 30,
 "pixelSizeY": 30,
 "datasetFormat": "AMD",
 "uncompressedSize": 80279024000,
 "blockWidth": 2048,
 "blockHeight": 256,
 "compressionType": "None",
 "bandNames": [
  "Band_1"
 ],
 "allowCopy": true,
 "allowAnalysis": true,
 "itemAccess": false,
 "minPixelSize": 0,
 "maxPixelSize": 0,
 "copyrightText": "null",
 "serviceDataType": "esriImageServiceDataTypeGeneric",
 "serviceSourceType": "esriImageServiceSourceTypeMosaicDataset",
 "objectIdField": "OBJECTID",
 "fields": [
  {
   "name": "OBJECTID",
   "type": "esriFieldTypeOID",
   "alias": "OBJECTID",
   "domain": null
  },
  {
   "name": "Shape",
   "type": "esriFieldTypeGeometry",
   "alias": "Shape",
   "domain": null
  },
  {
   "name": "Name",
   "type": "esriFieldTypeString",
   "alias": "Name",
   "domain": null,
   "length": 200
  },
  {
   "name": "MinPS",
   "type": "esriFieldTypeDouble",
   "alias": "MinPS",
   "domain": null
  },
  {
   "name": "MaxPS",
   "type": "esriFieldTypeDouble",
   "alias": "MaxPS",
   "domain": null
  },
  {
   "name": "LowPS",
   "type": "esriFieldTypeDouble",
   "alias": "LowPS",
   "domain": null
  },
  {
   "name": "HighPS",
   "type": "esriFieldTypeDouble",
   "alias": "HighPS",
   "domain": null
  },
  {
   "name": "Category",
   "type": "esriFieldTypeInteger",
   "alias": "Category",
   "domain": {
    "type": "codedValue",
    "name": "MosaicCatalogItemCategoryDomain",
    "description": "Catalog item categories.",
    "codedValues": [
     {
      "name": "Unknown",
      "code": 0
     },
     {
      "name": "Primary",
      "code": 1
     },
     {
      "name": "Overview",
      "code": 2
     },
     {
      "name": "Unprocessed Overview",
      "code": 3
     },
     {
      "name": "Partial Overview",
      "code": 4
     },
     {
      "name": "Inactive",
      "code": 5
     },
     {
      "name": "Uploaded",
      "code": 253
     },
     {
      "name": "Incomplete",
      "code": 254
     },
     {
      "name": "Custom",
      "code": 255
     }
    ],
    "mergePolicy": "esriMPTDefaultValue",
    "splitPolicy": "esriSPTDefaultValue"
   }
  },
  {
   "name": "Tag",
   "type": "esriFieldTypeString",
   "alias": "Tag",
   "domain": null,
   "length": 100
  },
  {
   "name": "GroupName",
   "type": "esriFieldTypeString",
   "alias": "GroupName",
   "domain": null,
   "length": 100
  },
  {
   "name": "ProductName",
   "type": "esriFieldTypeString",
   "alias": "ProductName",
   "domain": null,
   "length": 100
  },
  {
   "name": "CenterX",
   "type": "esriFieldTypeDouble",
   "alias": "CenterX",
   "domain": null
  },
  {
   "name": "CenterY",
   "type": "esriFieldTypeDouble",
   "alias": "CenterY",
   "domain": null
  },
  {
   "name": "ZOrder",
   "type": "esriFieldTypeInteger",
   "alias": "ZOrder",
   "domain": null
  },
  {
   "name": "SPCD",
   "type": "esriFieldTypeInteger",
   "alias": "SPCD",
   "domain": null
  },
  {
   "name": "GENUS",
   "type": "esriFieldTypeString",
   "alias": "GENUS",
   "domain": null,
   "length": 255
  },
  {
   "name": "SPECIES",
   "type": "esriFieldTypeString",
   "alias": "SPECIES",
   "domain": null,
   "length": 255
  },
  {
   "name": "COMMON_NAME",
   "type": "esriFieldTypeString",
   "alias": "COMMON_NAME",
   "domain": null,
   "length": 255
  },
  {
   "name": "min",
   "type": "esriFieldTypeSingle",
   "alias": "min",
   "domain": null
  },
  {
   "name": "max",
   "type": "esriFieldTypeSingle",
   "alias": "max",
   "domain": null
  },
  {
   "name": "mean",
   "type": "esriFieldTypeSingle",
   "alias": "mean",
   "domain": null
  },
  {
   "name": "stdev",
   "type": "esriFieldTypeSingle",
   "alias": "stdev",
   "domain": null
  },
  {
   "name": "median",
   "type": "esriFieldTypeSingle",
   "alias": "median",
   "domain": null
  },
  {
   "name": "mode",
   "type": "esriFieldTypeSingle",
   "alias": "mode",
   "domain": null
  },
  {
   "name": "ProTemp",
   "type": "esriFieldTypeString",
   "alias": "ProTemp",
   "domain": null,
   "length": 255
  },
  {
   "name": "Shape_Length",
   "type": "esriFieldTypeDouble",
   "alias": "Shape_Length",
   "domain": null
  },
  {
   "name": "Shape_Area",
   "type": "esriFieldTypeDouble",
   "alias": "Shape_Area",
   "domain": null
  }
 ],
 "capabilities": "Image,Metadata,Catalog,Mensuration",
 "defaultMosaicMethod": "Northwest",
 "allowedMosaicMethods": "NorthWest,Center,LockRaster,ByAttribute,Nadir,Viewpoint,Seamline,None",
 "sortField": "",
 "sortValue": null,
 "sortAscending": true,
 "mosaicOperator": "First",
 "maxDownloadSizeLimit": 2048,
 "defaultCompressionQuality": 75,
 "defaultResamplingMethod": "Bilinear",
 "maxImageHeight": 4100,
 "maxImageWidth": 15000,
 "maxRecordCount": 1000,
 "maxDownloadImageCount": 20,
 "maxMosaicImageCount": 20,
 "allowRasterFunction": true,
 "rasterFunctionInfos": [
  {
   "name": "SPCD_0000_TOTAL",
   "description": "TOTAL",
   "help": ""
  },
  {
   "name": "None",
   "description": "Make a Raster or Raster Dataset into a Function Raster Dataset.",
   "help": ""
  },
  {
   "name": "SPCD_0010_Abies_spp.",
   "description": "fir spp.",
   "help": ""
  },
  {
   "name": "SPCD_0011_Abies_amabilis",
   "description": "Pacific silver fir",
   "help": ""
  },
  {
   "name": "SPCD_0012_Abies_balsamea",
   "description": "balsam fir",
   "help": ""
  },
  {
   "name": "SPCD_0015_Abies_concolor",
   "description": "white fir",
   "help": ""
  },
  {
   "name": "SPCD_0016_Abies_fraseri",
   "description": "Fraser fir",
   "help": ""
  },
  {
   "name": "SPCD_0017_Abies_grandis",
   "description": "grand fir",
   "help": ""
  },
  {
   "name": "SPCD_0018_Abies_lasiocarpa",
   "description": "corkbark fir",
   "help": ""
  },
  {
   "name": "SPCD_0019_Abies_lasiocarpa",
   "description": "subalpine fir",
   "help": ""
  },
  {
   "name": "SPCD_0020_Abies_magnifica",
   "description": "California red fir",
   "help": ""
  },
  {
   "name": "SPCD_0021_Abies_shastensis",
   "description": "Shasta red fir",
   "help": ""
  },
  {
   "name": "SPCD_0022_Abies_procera",
   "description": "noble fir",
   "help": ""
  },
  {
   "name": "SPCD_0041_Chamaecyparis_lawsoniana",
   "description": "Port-Orford-cedar",
   "help": ""
  },
  {
   "name": "SPCD_0042_Chamaecyparis_nootkatensis",
   "description": "Alaska yellow-cedar",
   "help": ""
  },
  {
   "name": "SPCD_0043_Chamaecyparis_thyoides",
   "description": "Atlantic white-cedar",
   "help": ""
  },
  {
   "name": "SPCD_0051_Cupressus_arizonica",
   "description": "Arizona cypress",
   "help": ""
  },
  {
   "name": "SPCD_0052_Cupressus_bakeri",
   "description": "Baker or Modoc cypress",
   "help": ""
  },
  {
   "name": "SPCD_0055_Cupressus_sargentii",
   "description": "Sargent's cypress",
   "help": ""
  },
  {
   "name": "SPCD_0056_Cupressus_macnabiana",
   "description": "MacNab's cypress",
   "help": ""
  },
  {
   "name": "SPCD_0058_Juniperus_pinchotii",
   "description": "Pinchot juniper",
   "help": ""
  },
  {
   "name": "SPCD_0059_Juniperus_coahuilensis",
   "description": "redberry juniper",
   "help": ""
  },
  {
   "name": "SPCD_0061_Juniperus_ashei",
   "description": "Ashe juniper",
   "help": ""
  },
  {
   "name": "SPCD_0062_Juniperus_californica",
   "description": "California juniper",
   "help": ""
  },
  {
   "name": "SPCD_0063_Juniperus_deppeana",
   "description": "alligator juniper",
   "help": ""
  },
  {
   "name": "SPCD_0064_Juniperus_occidentalis",
   "description": "western juniper",
   "help": ""
  },
  {
   "name": "SPCD_0065_Juniperus_osteosperma",
   "description": "Utah juniper",
   "help": ""
  },
  {
   "name": "SPCD_0066_Juniperus_scopulorum",
   "description": "Rocky Mountain juniper",
   "help": ""
  },
  {
   "name": "SPCD_0067_Juniperus_virginiana",
   "description": "southern redcedar",
   "help": ""
  },
  {
   "name": "SPCD_0068_Juniperus_virginiana",
   "description": "eastern redcedar",
   "help": ""
  },
  {
   "name": "SPCD_0069_Juniperus_monosperma",
   "description": "oneseed juniper",
   "help": ""
  },
  {
   "name": "SPCD_0070_Larix_spp.",
   "description": "larch spp.",
   "help": ""
  },
  {
   "name": "SPCD_0071_Larix_laricina",
   "description": "tamarack",
   "help": ""
  },
  {
   "name": "SPCD_0072_Larix_lyallii",
   "description": "subalpine larch",
   "help": ""
  },
  {
   "name": "SPCD_0073_Larix_occidentalis",
   "description": "western larch",
   "help": ""
  },
  {
   "name": "SPCD_0081_Calocedrus_decurrens",
   "description": "incense-cedar",
   "help": ""
  },
  {
   "name": "SPCD_0091_Picea_abies",
   "description": "Norway spruce",
   "help": ""
  },
  {
   "name": "SPCD_0092_Picea_breweriana",
   "description": "Brewer spruce",
   "help": ""
  },
  {
   "name": "SPCD_0093_Picea_engelmannii",
   "description": "Engelmann spruce",
   "help": ""
  },
  {
   "name": "SPCD_0094_Picea_glauca",
   "description": "white spruce",
   "help": ""
  },
  {
   "name": "SPCD_0095_Picea_mariana",
   "description": "black spruce",
   "help": ""
  },
  {
   "name": "SPCD_0096_Picea_pungens",
   "description": "blue spruce",
   "help": ""
  },
  {
   "name": "SPCD_0097_Picea_rubens",
   "description": "red spruce",
   "help": ""
  },
  {
   "name": "SPCD_0098_Picea_sitchensis",
   "description": "Sitka spruce",
   "help": ""
  },
  {
   "name": "SPCD_0101_Pinus_albicaulis",
   "description": "whitebark pine",
   "help": ""
  },
  {
   "name": "SPCD_0102_Pinus_aristata",
   "description": "Rocky Mountain bristlecone pine",
   "help": ""
  },
  {
   "name": "SPCD_0103_Pinus_attenuata",
   "description": "knobcone pine",
   "help": ""
  },
  {
   "name": "SPCD_0104_Pinus_balfouriana",
   "description": "foxtail pine",
   "help": ""
  },
  {
   "name": "SPCD_0105_Pinus_banksiana",
   "description": "jack pine",
   "help": ""
  },
  {
   "name": "SPCD_0106_Pinus_edulis",
   "description": "common or two-needle pinyon",
   "help": ""
  },
  {
   "name": "SPCD_0107_Pinus_clausa",
   "description": "sand pine",
   "help": ""
  },
  {
   "name": "SPCD_0108_Pinus_contorta",
   "description": "lodgepole pine",
   "help": ""
  },
  {
   "name": "SPCD_0109_Pinus_coulteri",
   "description": "Coulter pine",
   "help": ""
  },
  {
   "name": "SPCD_0110_Pinus_echinata",
   "description": "shortleaf pine",
   "help": ""
  },
  {
   "name": "SPCD_0111_Pinus_elliottii",
   "description": "slash pine",
   "help": ""
  },
  {
   "name": "SPCD_0113_Pinus_flexilis",
   "description": "limber pine",
   "help": ""
  },
  {
   "name": "SPCD_0114_Pinus_strobiformis",
   "description": "southwestern white pine ",
   "help": ""
  },
  {
   "name": "SPCD_0115_Pinus_glabra",
   "description": "spruce pine",
   "help": ""
  },
  {
   "name": "SPCD_0116_Pinus_jeffreyi",
   "description": "Jeffrey pine",
   "help": ""
  },
  {
   "name": "SPCD_0117_Pinus_lambertiana",
   "description": "sugar pine",
   "help": ""
  },
  {
   "name": "SPCD_0118_Pinus_leiophylla",
   "description": "Chihuahuan pine",
   "help": ""
  },
  {
   "name": "SPCD_0119_Pinus_monticola",
   "description": "western white pine",
   "help": ""
  },
  {
   "name": "SPCD_0120_Pinus_muricata",
   "description": "bishop pine",
   "help": ""
  },
  {
   "name": "SPCD_0121_Pinus_palustris",
   "description": "longleaf pine",
   "help": ""
  },
  {
   "name": "SPCD_0122_Pinus_ponderosa",
   "description": "ponderosa pine",
   "help": ""
  },
  {
   "name": "SPCD_0123_Pinus_pungens",
   "description": "Table Mountain pine",
   "help": ""
  },
  {
   "name": "SPCD_0125_Pinus_resinosa",
   "description": "red pine",
   "help": ""
  },
  {
   "name": "SPCD_0126_Pinus_rigida",
   "description": "pitch pine",
   "help": ""
  },
  {
   "name": "SPCD_0127_Pinus_sabiniana",
   "description": "gray or California foothill pine",
   "help": ""
  },
  {
   "name": "SPCD_0128_Pinus_serotina",
   "description": "pond pine",
   "help": ""
  },
  {
   "name": "SPCD_0129_Pinus_strobus",
   "description": "eastern white pine",
   "help": ""
  },
  {
   "name": "SPCD_0130_Pinus_sylvestris",
   "description": "Scotch pine",
   "help": ""
  },
  {
   "name": "SPCD_0131_Pinus_taeda",
   "description": "loblolly pine",
   "help": ""
  },
  {
   "name": "SPCD_0132_Pinus_virginiana",
   "description": "Virginia pine",
   "help": ""
  },
  {
   "name": "SPCD_0133_Pinus_monophylla",
   "description": "singleleaf pinyon",
   "help": ""
  },
  {
   "name": "SPCD_0134_Pinus_discolor",
   "description": "border pinyon",
   "help": ""
  },
  {
   "name": "SPCD_0136_Pinus_nigra",
   "description": "Austrian pine",
   "help": ""
  },
  {
   "name": "SPCD_0137_Pinus_washoensis",
   "description": "Washoe pine",
   "help": ""
  },
  {
   "name": "SPCD_0140_Pinus_cembroides",
   "description": "Mexican pinyon pine",
   "help": ""
  },
  {
   "name": "SPCD_0141_Pinus_remota",
   "description": "papershell pinyon pine",
   "help": ""
  },
  {
   "name": "SPCD_0142_Pinus_longaeva",
   "description": "Great Basin bristlecone pine",
   "help": ""
  },
  {
   "name": "SPCD_0143_Pinus_monophylla",
   "description": "Arizona pinyon pine",
   "help": ""
  },
  {
   "name": "SPCD_0201_Pseudotsuga_macrocarpa",
   "description": "bigcone Douglas-fir",
   "help": ""
  },
  {
   "name": "SPCD_0202_Pseudotsuga_menziesii",
   "description": "Douglas-fir",
   "help": ""
  },
  {
   "name": "SPCD_0211_Sequoia_sempervirens",
   "description": "redwood",
   "help": ""
  },
  {
   "name": "SPCD_0212_Sequoiadendron_giganteum",
   "description": "giant sequoia",
   "help": ""
  },
  {
   "name": "SPCD_0221_Taxodium_distichum",
   "description": "baldcypress",
   "help": ""
  },
  {
   "name": "SPCD_0222_Taxodium_ascendens",
   "description": "pondcypress",
   "help": ""
  },
  {
   "name": "SPCD_0231_Taxus_brevifolia",
   "description": "Pacific yew",
   "help": ""
  },
  {
   "name": "SPCD_0241_Thuja_occidentalis",
   "description": "northern white-cedar",
   "help": ""
  },
  {
   "name": "SPCD_0242_Thuja_plicata",
   "description": "western redcedar",
   "help": ""
  },
  {
   "name": "SPCD_0251_Torreya_californica",
   "description": "California torreya (nutmeg)",
   "help": ""
  },
  {
   "name": "SPCD_0261_Tsuga_canadensis",
   "description": "eastern hemlock",
   "help": ""
  },
  {
   "name": "SPCD_0262_Tsuga_caroliniana",
   "description": "Carolina hemlock",
   "help": ""
  },
  {
   "name": "SPCD_0263_Tsuga_heterophylla",
   "description": "western hemlock",
   "help": ""
  },
  {
   "name": "SPCD_0264_Tsuga_mertensiana",
   "description": "mountain hemlock",
   "help": ""
  },
  {
   "name": "SPCD_0303_Acacia_farnesiana",
   "description": "sweet acacia",
   "help": ""
  },
  {
   "name": "SPCD_0311_Acer_barbatum",
   "description": "Florida maple",
   "help": ""
  },
  {
   "name": "SPCD_0312_Acer_macrophyllum",
   "description": "bigleaf maple",
   "help": ""
  },
  {
   "name": "SPCD_0313_Acer_negundo",
   "description": "boxelder",
   "help": ""
  },
  {
   "name": "SPCD_0314_Acer_nigrum",
   "description": "black maple",
   "help": ""
  },
  {
   "name": "SPCD_0315_Acer_pensylvanicum",
   "description": "striped maple",
   "help": ""
  },
  {
   "name": "SPCD_0316_Acer_rubrum",
   "description": "red maple",
   "help": ""
  },
  {
   "name": "SPCD_0317_Acer_saccharinum",
   "description": "silver maple",
   "help": ""
  },
  {
   "name": "SPCD_0318_Acer_saccharum",
   "description": "sugar maple",
   "help": ""
  },
  {
   "name": "SPCD_0319_Acer_spicatum",
   "description": "mountain maple",
   "help": ""
  },
  {
   "name": "SPCD_0320_Acer_platanoides",
   "description": "Norway maple",
   "help": ""
  },
  {
   "name": "SPCD_0322_Acer_grandidentatum",
   "description": "bigtooth maple",
   "help": ""
  },
  {
   "name": "SPCD_0323_Acer_leucoderme",
   "description": "chalk maple",
   "help": ""
  },
  {
   "name": "SPCD_0331_Aesculus_glabra",
   "description": "Ohio buckeye",
   "help": ""
  },
  {
   "name": "SPCD_0332_Aesculus_flava",
   "description": "yellow buckeye",
   "help": ""
  },
  {
   "name": "SPCD_0333_Aesculus_californica",
   "description": "California buckeye",
   "help": ""
  },
  {
   "name": "SPCD_0334_Aesculus_glabra",
   "description": "Texas buckeye",
   "help": ""
  },
  {
   "name": "SPCD_0341_Ailanthus_altissima",
   "description": "ailanthus",
   "help": ""
  },
  {
   "name": "SPCD_0345_Albizia_julibrissin",
   "description": "mimosa, silktree",
   "help": ""
  },
  {
   "name": "SPCD_0351_Alnus_rubra",
   "description": "red alder",
   "help": ""
  },
  {
   "name": "SPCD_0352_Alnus_rhombifolia",
   "description": "white alder",
   "help": ""
  },
  {
   "name": "SPCD_0356_Amelanchier_spp.",
   "description": "serviceberry spp.",
   "help": ""
  },
  {
   "name": "SPCD_0361_Arbutus_menziesii",
   "description": "Pacific madrone",
   "help": ""
  },
  {
   "name": "SPCD_0363_Arbutus_xalapensis",
   "description": "Texas madrone",
   "help": ""
  },
  {
   "name": "SPCD_0367_Asimina_triloba",
   "description": "pawpaw",
   "help": ""
  },
  {
   "name": "SPCD_0371_Betula_alleghaniensis",
   "description": "yellow birch",
   "help": ""
  },
  {
   "name": "SPCD_0372_Betula_lenta",
   "description": "sweet birch",
   "help": ""
  },
  {
   "name": "SPCD_0373_Betula_nigra",
   "description": "river birch",
   "help": ""
  },
  {
   "name": "SPCD_0374_Betula_occidentalis",
   "description": "water birch",
   "help": ""
  },
  {
   "name": "SPCD_0375_Betula_papyrifera",
   "description": "paper birch",
   "help": ""
  },
  {
   "name": "SPCD_0379_Betula_populifolia",
   "description": "gray birch",
   "help": ""
  },
  {
   "name": "SPCD_0381_Sideroxylon_lanuginosum",
   "description": "chittamwood, gum bumelia",
   "help": ""
  },
  {
   "name": "SPCD_0391_Carpinus_caroliniana",
   "description": "American hornbeam, musclewood",
   "help": ""
  },
  {
   "name": "SPCD_0400_Carya_spp.",
   "description": "hickory spp.",
   "help": ""
  },
  {
   "name": "SPCD_0401_Carya_aquatica",
   "description": "water hickory",
   "help": ""
  },
  {
   "name": "SPCD_0402_Carya_cordiformis",
   "description": "bitternut hickory",
   "help": ""
  },
  {
   "name": "SPCD_0403_Carya_glabra",
   "description": "pignut hickory",
   "help": ""
  },
  {
   "name": "SPCD_0404_Carya_illinoinensis",
   "description": "pecan",
   "help": ""
  },
  {
   "name": "SPCD_0405_Carya_laciniosa",
   "description": "shellbark hickory",
   "help": ""
  },
  {
   "name": "SPCD_0407_Carya_ovata",
   "description": "shagbark hickory",
   "help": ""
  },
  {
   "name": "SPCD_0408_Carya_texana",
   "description": "black hickory",
   "help": ""
  },
  {
   "name": "SPCD_0409_Carya_alba",
   "description": "mockernut hickory",
   "help": ""
  },
  {
   "name": "SPCD_0410_Carya_pallida",
   "description": "sand hickory",
   "help": ""
  },
  {
   "name": "SPCD_0411_Carya_floridana",
   "description": "scrub hickory",
   "help": ""
  },
  {
   "name": "SPCD_0412_Carya_ovalis",
   "description": "red hickory",
   "help": ""
  },
  {
   "name": "SPCD_0413_Carya_carolinae-septentrionalis",
   "description": "southern shagbark hickory",
   "help": ""
  },
  {
   "name": "SPCD_0421_Castanea_dentata",
   "description": "American chestnut",
   "help": ""
  },
  {
   "name": "SPCD_0422_Castanea_pumila",
   "description": "Allegheny chinkapin",
   "help": ""
  },
  {
   "name": "SPCD_0423_Castanea_pumila",
   "description": "Ozark chinkapin",
   "help": ""
  },
  {
   "name": "SPCD_0431_Chrysolepis_chrysophylla",
   "description": "giant chinkapin, golden chinkapin",
   "help": ""
  },
  {
   "name": "SPCD_0451_Catalpa_bignonioides",
   "description": "southern catalpa",
   "help": ""
  },
  {
   "name": "SPCD_0452_Catalpa_speciosa",
   "description": "northern catalpa",
   "help": ""
  },
  {
   "name": "SPCD_0461_Celtis_laevigata",
   "description": "sugarberry",
   "help": ""
  },
  {
   "name": "SPCD_0462_Celtis_occidentalis",
   "description": "hackberry",
   "help": ""
  },
  {
   "name": "SPCD_0463_Celtis_laevigata",
   "description": "netleaf hackberry",
   "help": ""
  },
  {
   "name": "SPCD_0471_Cercis_canadensis",
   "description": "eastern redbud",
   "help": ""
  },
  {
   "name": "SPCD_0475_Cercocarpus_ledifolius",
   "description": "curlleaf mountain-mahogany",
   "help": ""
  },
  {
   "name": "SPCD_0481_Cladrastis_kentukea",
   "description": "yellowwood",
   "help": ""
  },
  {
   "name": "SPCD_0491_Cornus_florida",
   "description": "flowering dogwood",
   "help": ""
  },
  {
   "name": "SPCD_0492_Cornus_nuttallii",
   "description": "Pacific dogwood",
   "help": ""
  },
  {
   "name": "SPCD_0500_Crataegus_spp.",
   "description": "hawthorn spp.",
   "help": ""
  },
  {
   "name": "SPCD_0501_Crataegus_crus-galli",
   "description": "cockspur hawthorn",
   "help": ""
  },
  {
   "name": "SPCD_0502_Crataegus_mollis",
   "description": "downy hawthorn",
   "help": ""
  },
  {
   "name": "SPCD_0513_Eucalyptus_grandis",
   "description": "grand eucalyptus",
   "help": ""
  },
  {
   "name": "SPCD_0521_Diospyros_virginiana",
   "description": "common persimmon",
   "help": ""
  },
  {
   "name": "SPCD_0522_Diospyros_texana",
   "description": "Texas persimmon",
   "help": ""
  },
  {
   "name": "SPCD_0523_Ehretia_anacua",
   "description": "Anacua knockaway",
   "help": ""
  },
  {
   "name": "SPCD_0531_Fagus_grandifolia",
   "description": "American beech",
   "help": ""
  },
  {
   "name": "SPCD_0541_Fraxinus_americana",
   "description": "white ash",
   "help": ""
  },
  {
   "name": "SPCD_0542_Fraxinus_latifolia",
   "description": "Oregon ash",
   "help": ""
  },
  {
   "name": "SPCD_0543_Fraxinus_nigra",
   "description": "black ash",
   "help": ""
  },
  {
   "name": "SPCD_0544_Fraxinus_pennsylvanica",
   "description": "green ash",
   "help": ""
  },
  {
   "name": "SPCD_0545_Fraxinus_profunda",
   "description": "pumpkin ash",
   "help": ""
  },
  {
   "name": "SPCD_0546_Fraxinus_quadrangulata",
   "description": "blue ash",
   "help": ""
  },
  {
   "name": "SPCD_0547_Fraxinus_velutina",
   "description": "velvet ash",
   "help": ""
  },
  {
   "name": "SPCD_0548_Fraxinus_caroliniana",
   "description": "Carolina ash",
   "help": ""
  },
  {
   "name": "SPCD_0549_Fraxinus_texensis",
   "description": "Texas ash",
   "help": ""
  },
  {
   "name": "SPCD_0551_Gleditsia_aquatica",
   "description": "waterlocust",
   "help": ""
  },
  {
   "name": "SPCD_0552_Gleditsia_triacanthos",
   "description": "honeylocust",
   "help": ""
  },
  {
   "name": "SPCD_0555_Gordonia_lasianthus",
   "description": "loblolly-bay",
   "help": ""
  },
  {
   "name": "SPCD_0571_Gymnocladus_dioicus",
   "description": "Kentucky coffeetree",
   "help": ""
  },
  {
   "name": "SPCD_0581_Halesia_carolina",
   "description": "Carolina silverbell",
   "help": ""
  },
  {
   "name": "SPCD_0582_Halesia_diptera",
   "description": "two-wing silverbell",
   "help": ""
  },
  {
   "name": "SPCD_0591_Ilex_opaca",
   "description": "American holly",
   "help": ""
  },
  {
   "name": "SPCD_0601_Juglans_cinerea",
   "description": "butternut",
   "help": ""
  },
  {
   "name": "SPCD_0602_Juglans_nigra",
   "description": "black walnut",
   "help": ""
  },
  {
